BEGIN:VCALENDAR
VERSION:2.0
PRODID:-//eventon.com NONSGML v1.0//EN
CALSCALE:GREGORIAN
METHOD:PUBLISH
BEGIN:VEVENT
UID:69e73baa514c7
DTSTAMP:20260421T085610Z
DTSTART:20260409T110000Z
DTEND:20260409T150000Z
LOCATION:
SUMMARY:Family Programme Easter: Play in the Park: Kensington Gardens
DESCRIPTION:Play in the Park: Kensington Gardens &nbsp; Come and explore\, 
  play and make lasting memories with us in the Royal Parks! Exciting play e
 vents will be delivered for a free partnership with London Play. These even
 ts are welcome to all families\,  children and young people! &nbsp; Age: Al
 l ages Please[..]\nhttps://novanew.org.uk/events/family-programme-easter-pl
 ay-in-the-park-kensington-gardens/var/ri-1.l-L1
URL:https://novanew.org.uk/events/family-programme-easter-play-in-the-park-kensington-gardens/var/ri-1.l-L1
END:VEVENT
END:VCALENDAR