BEGIN:VCALENDAR
VERSION:2.0
PRODID:-//eventon.com NONSGML v1.0//EN
CALSCALE:GREGORIAN
METHOD:PUBLISH
BEGIN:VEVENT
UID:69e73b047ac79
DTSTAMP:20260421T085324Z
DTSTART:20260401T093000Z
DTEND:20260401T113000Z
LOCATION:
SUMMARY:Family Programme Easter: Little Movers: Animal Dash!
DESCRIPTION:🐾 Little Movers: Animal Dash! 🐾 &nbsp; Come and join Nova
  for fun\,  creative family sessions exploring how animals (and humans!) mo
 ve — through storytelling\,  movement and hands-on making 🎨✨ Working
  alongside staff from the Natural History Museum\,  families will create an
 imal stories and landscapes that will help inspire a[..]\nhttps://novanew.o
 rg.uk/events/family-programme-easter-little-movers-animal-dash
URL:https://novanew.org.uk/events/family-programme-easter-little-movers-animal-dash
END:VEVENT
END:VCALENDAR