BEGIN:VCALENDAR
VERSION:2.0
PRODID:-//eventon.com NONSGML v1.0//EN
CALSCALE:GREGORIAN
METHOD:PUBLISH
BEGIN:VEVENT
UID:69e73b4db18ab
DTSTAMP:20260421T085437Z
DTSTART:20260331T120000Z
DTEND:20260331T130000Z
LOCATION:
SUMMARY:Family Programme Easter: Digital Detox: Ceramics Family Session
DESCRIPTION:Digital Detox: Ceramics Family Session Join us for a relaxed\, 
  hands-on Introduction to Ceramics Family Session\,  guided by professional
  potter Paprika Skala-Williams. &nbsp; This special session is all about sp
 ending quality time together while exploring creativity. Families will: •
  Create tile pieces for a collaborative community mural • Make small[..]\
 nhttps://novanew.org.uk/events/family-programme-easter-digital-detox-cerami
 cs-family-session
URL:https://novanew.org.uk/events/family-programme-easter-digital-detox-ceramics-family-session
END:VEVENT
END:VCALENDAR