BEGIN:VCALENDAR
VERSION:2.0
PRODID:-//eventon.com NONSGML v1.0//EN
CALSCALE:GREGORIAN
METHOD:PUBLISH
BEGIN:VEVENT
UID:69e73a8b3ad6f
DTSTAMP:20260421T085123Z
DTSTART:20250218T100000Z
DTEND:20250218T170000Z
LOCATION:
SUMMARY:Family Programme Feb Half Term: Trip to London Zoo
DESCRIPTION:Trip to London Zoo &#8211; Tickets only Feel closer to nature o
 n a trip to London Zoo\,  a conservation zoo in the heart of the city. You 
 will meet amazing animals\,  from tiny marching leafcutter ants to a giant 
 silverback gorilla\,  discover wildlife from habitats from all around the w
 orld\, [..]\nhttps://novanew.org.uk/events/family-programme-feb-half-term-t
 rip-to-london-zoo-2
URL:https://novanew.org.uk/events/family-programme-feb-half-term-trip-to-london-zoo-2
END:VEVENT
END:VCALENDAR