BEGIN:VCALENDAR
VERSION:2.0
PRODID:-//eventon.com NONSGML v1.0//EN
CALSCALE:GREGORIAN
METHOD:PUBLISH
BEGIN:VEVENT
UID:69e8f6c407096
DTSTAMP:20260422T162644Z
DTSTART:20250112T130000Z
DTEND:20250112T160000Z
LOCATION:
SUMMARY:The Great Winter Get Together
DESCRIPTION:The Great Winter Get Together &nbsp; Join Nova in chasing away 
 the winter blues as they welcome in the new year\,  which can be a lonely a
 nd isolating time for many\,  for the chance to gather with others over som
 e hot food\,  games and laughter. &nbsp; Whether you&#8217;re into crafting
 \, [..]\nhttps://novanew.org.uk/events/the-great-winter-get-together-25
URL:https://novanew.org.uk/events/the-great-winter-get-together-25
END:VEVENT
END:VCALENDAR