BEGIN:VCALENDAR
VERSION:2.0
PRODID:-//eventon.com NONSGML v1.0//EN
CALSCALE:GREGORIAN
METHOD:PUBLISH
BEGIN:VEVENT
UID:69e73a67b8d7c
DTSTAMP:20260421T085047Z
DTSTART:20241101T120000Z
DTEND:20241101T143000Z
LOCATION:
SUMMARY:Family Programme October HT: Stencil Art & Mural Design Workshop
DESCRIPTION:Stencil Art &amp; Mural Design Workshop &nbsp; This is a CHILDR
 EN-ONLY activity for those aged 10-14.  Come to Nova for a stenciling work
 shop and to help us design a new mural for Nova.  You will learn about mur
 al design and stencilling\,  using your new skills to make your own small[.
 .]\nhttps://novanew.org.uk/events/family-programme-october-ht-stencil-art-m
 ural-design-workshop
URL:https://novanew.org.uk/events/family-programme-october-ht-stencil-art-mural-design-workshop
END:VEVENT
END:VCALENDAR