BEGIN:VCALENDAR
VERSION:2.0
PRODID:-//eventon.com NONSGML v1.0//EN
CALSCALE:GREGORIAN
METHOD:PUBLISH
BEGIN:VEVENT
UID:69e4c7bd75346
DTSTAMP:20260419T121701Z
DTSTART:20240405T150000Z
DTEND:20240405T170000Z
LOCATION:
SUMMARY:Family Programme Easter: Royal Academy: Entangled Pasts\,  1768–now: Art\,  Colonialism and Change
DESCRIPTION:Royal Academy: Entangled Pasts\,  1768–now: Art\,  Colonialis
 m and Change Nova have been offered free tickets for adults or young adults
  who would like to visit the current exhibition\,  &#8220;Entangled Pasts\,
   1768–now: Art\,  Colonialism and Change\, &#8221; at the Royal Academy.
  &nbsp; This ground-breaking exhibition brings together over 100 major cont
 emporary and[..]\nhttps://novanew.org.uk/events/family-programme-easter-roy
 al-academy-entangled-pasts-1768-now-art-colonialism-and-change
URL:https://novanew.org.uk/events/family-programme-easter-royal-academy-entangled-pasts-1768-now-art-colonialism-and-change
END:VEVENT
END:VCALENDAR