BEGIN:VCALENDAR
VERSION:2.0
PRODID:-//eventon.com NONSGML v1.0//EN
CALSCALE:GREGORIAN
METHOD:PUBLISH
BEGIN:VEVENT
UID:69e4d1e873f88
DTSTAMP:20260419T130024Z
DTSTART:20231222T144500Z
DTEND:20231222T170000Z
LOCATION:
SUMMARY:Family Programme Christmas Holiday: Winter Wonderland - Zippos Circus
DESCRIPTION:Winter Wonderland &#8211; Zippos Circus   Join Nova on a fabu
 lous festive visit to Winter Wonderland in Hyde Park and Zippos Christmas C
 ircus\,  featuring an all new international line up of award-winning circus
  superstars for a fun-packed extravaganza. You can expect jaw-dropping aeri
 al and acrobatic magic in this annual Christmas-themed extravaganza.[..]\nh
 ttps://novanew.org.uk/events/family-programme-christmas-holiday-winter-wond
 erland-zippos-circus
URL:https://novanew.org.uk/events/family-programme-christmas-holiday-winter-wonderland-zippos-circus
END:VEVENT
END:VCALENDAR