BEGIN:VCALENDAR
VERSION:2.0
PRODID:-//eventon.com NONSGML v1.0//EN
CALSCALE:GREGORIAN
METHOD:PUBLISH
BEGIN:VEVENT
UID:69e73937b2ef5
DTSTAMP:20260421T084543Z
DTSTART:20220130T110000Z
DTEND:20220130T160000Z
LOCATION:
SUMMARY:Family Programme: The Storm Whale at Little Angel Theatre
DESCRIPTION:The Storm Whale at Little Angel Theatre Noi lives with his Dad 
 and their six cats by the sea. One spring\,  while his Dad was busy at work
 \,  Noi rescued a little whale that washed up on the beach during a storm. 
 There a friendship began that changed their lives[..]\nhttps://novanew.org.
 uk/events/family-programme-the-storm-whale-at-little-angel-theatre
URL:https://novanew.org.uk/events/family-programme-the-storm-whale-at-little-angel-theatre
END:VEVENT
END:VCALENDAR